BEGIN:VCALENDAR
PRODID:-//AT Content Types//AT Event//EN
VERSION:1.0
BEGIN:VEVENT
DTSTART:20210730T180000Z
DTEND:20210730T180000Z
DCREATED:20210718T202947Z
UID:ATEvent-b446cbdbbdae4958885a1234aa9131a6
SEQUENCE:0
LAST-MODIFIED:20220128T191515Z
SUMMARY:Concert Violon-Violoncelle
LOCATION:Eglise de Malbuisson
PRIORITY:3
TRANSP:0
END:VEVENT
END:VCALENDAR
