BEGIN:VCALENDAR
PRODID:-//AT Content Types//AT Event//EN
VERSION:2.0
METHOD:PUBLISH
BEGIN:VEVENT
DTSTAMP:20260420T184225Z
CREATED:20210712T172524Z
UID:ATEvent-2fe93e5ed67d4f07a6ecb2201872c184
LAST-MODIFIED:20220128T191515Z
SUMMARY:Concert flûte et orgue
DTSTART:20210822T150000Z
DTEND:20210822T150000Z
LOCATION:Eglise de Levier
CLASS:PUBLIC
END:VEVENT
END:VCALENDAR
