BEGIN:VCALENDAR
PRODID:-//AT Content Types//AT Event//EN
VERSION:2.0
METHOD:PUBLISH
BEGIN:VEVENT
DTSTAMP:20260422T085347Z
CREATED:20210226T123042Z
UID:ATEvent-17c9c68bc9cd419a94aa4d1ddb1be933
LAST-MODIFIED:20220128T191513Z
SUMMARY:Aide aux réfugiés : Vente de fleurs
DTSTART:20210318T230000Z
DTEND:20210319T230000Z
LOCATION:Pontarlier
CONTACT:Joël GUIRAUD\, 06.77.26.82.85 ou 06.75.84.78.14\, guiraudjoe25@gmail.com
CLASS:PUBLIC
END:VEVENT
END:VCALENDAR
