BEGIN:VCALENDAR
PRODID:-//AT Content Types//AT Event//EN
VERSION:1.0
BEGIN:VEVENT
DTSTART:20210329T143000Z
DTEND:20210329T143000Z
DCREATED:20210301T214238Z
UID:ATEvent-5586c535816a46ef87d132eae5323801
SEQUENCE:0
LAST-MODIFIED:20220128T191513Z
SUMMARY:Confessions dans le doyenné
DESCRIPTION:Célébration communautaire de réconciliation avec absolu
 tion individuelle
LOCATION:Église de Levier
PRIORITY:3
TRANSP:0
END:VEVENT
END:VCALENDAR
