BEGIN:VCALENDAR
PRODID:-//AT Content Types//AT Event//EN
VERSION:2.0
METHOD:PUBLISH
BEGIN:VEVENT
DTSTAMP:20260420T120314Z
CREATED:20210301T214230Z
UID:ATEvent-d05c3c1ce7c547d3b0538e7f04aac34e
LAST-MODIFIED:20220128T191513Z
SUMMARY:Confessions dans le doyenné
DTSTART:20210328T143000Z
DTEND:20210328T143000Z
DESCRIPTION:Célébration communautaire de réconciliation avec absolu
 tion individuelle
LOCATION:Église St-Pierre de Pontarlier
CLASS:PUBLIC
END:VEVENT
END:VCALENDAR
