BEGIN:VCALENDAR
PRODID:-//AT Content Types//AT Event//EN
VERSION:1.0
BEGIN:VEVENT
DTSTART:20210321T153000Z
DTEND:20210321T153000Z
DCREATED:20210301T214225Z
UID:ATEvent-abd5e31383b94d08a2664fbaa7c1c7cb
SEQUENCE:0
LAST-MODIFIED:20220128T191513Z
SUMMARY:Confessions dans le doyenné
DESCRIPTION:Célébration communautaire de réconciliation avec absolu
 tion individuelle
LOCATION:Église de Frasne
PRIORITY:3
TRANSP:0
END:VEVENT
END:VCALENDAR
