BEGIN:VCALENDAR
PRODID:-//AT Content Types//AT Event//EN
VERSION:1.0
BEGIN:VEVENT
DTSTART:20210320T090000Z
DTEND:20210320T150000Z
DCREATED:20210301T214835Z
UID:ATEvent-4e8ab0a58363454db02c2ad80e1e9eac
SEQUENCE:0
LAST-MODIFIED:20220128T191513Z
SUMMARY:Confessions dans le doyenné
DESCRIPTION:Confessions individuelles
LOCATION:Église St-Bénigne de Pontarlier
PRIORITY:3
TRANSP:0
END:VEVENT
END:VCALENDAR
