BEGIN:VCALENDAR
PRODID:-//AT Content Types//AT Event//EN
VERSION:1.0
BEGIN:VEVENT
DTSTART:20210311T190000Z
DTEND:20210311T190000Z
DCREATED:20210214T170527Z
UID:ATEvent-d0321f2cef7c400882db5cae41971218
SEQUENCE:0
LAST-MODIFIED:20220128T191513Z
SUMMARY:Conférence : Un monde rural à réparer
LOCATION:Collège Le Marteroy à Vesoul et en direct sur la chaîne Youtube du diocèse
PRIORITY:3
TRANSP:0
END:VEVENT
END:VCALENDAR
