BEGIN:VCALENDAR
PRODID:-//AT Content Types//AT Event//EN
VERSION:2.0
METHOD:PUBLISH
BEGIN:VEVENT
DTSTAMP:20260424T103457Z
CREATED:20210227T181954Z
UID:ATEvent-9d26874608134c9a83f3c7a32a57b87e
LAST-MODIFIED:20220128T191513Z
SUMMARY:Conférence : Pourquoi Jésus nous demande-t-il de célébrer la messe ?
DTSTART:20210321T140000Z
DTEND:20210321T140000Z
LOCATION:Cathédrale Saint-Jean à Besançon
CONTACT:03 81 83 34 62\, cathedrale@diocese-besancon.fr
URL:https://www.diocese-besancon.fr/diocese/doyennes-et-paroisses/d05-haut-doubs-forestier/actualites/conferences-de-careme-202103
CLASS:PUBLIC
END:VEVENT
END:VCALENDAR
