BEGIN:VCALENDAR
PRODID:-//AT Content Types//AT Event//EN
VERSION:2.0
METHOD:PUBLISH
BEGIN:VEVENT
DTSTAMP:20260421T213905Z
CREATED:20210227T181115Z
UID:ATEvent-670635a79c0f47149644638c1d1c4046
LAST-MODIFIED:20220128T191513Z
SUMMARY:Conférence : Pourquoi Jésus nous demande-t-il de célébrer la messe ?
DTSTART:20210314T140000Z
DTEND:20210314T140000Z
LOCATION:Cathédrale Saint-Jean à Besançon
CONTACT:03 81 83 34 62\, cathedrale@diocese-besancon.fr
URL:https://www.diocese-besancon.fr/diocese/doyennes-et-paroisses/d05-haut-doubs-forestier/actualites/conferences-de-careme-202103
CLASS:PUBLIC
END:VEVENT
END:VCALENDAR
