BEGIN:VCALENDAR
PRODID:-//AT Content Types//AT Event//EN
VERSION:2.0
METHOD:PUBLISH
BEGIN:VEVENT
DTSTAMP:20260422T054512Z
CREATED:20210923T170853Z
UID:ATEvent-fee189c44e7a481cbfe338e625f312e8
LAST-MODIFIED:20220128T181300Z
SUMMARY:Conférence : Le Missel romain\, quoi de neuf ?
DTSTART:20210929T183000Z
DTEND:20210929T183000Z
DESCRIPTION:Conférence tout public
LOCATION:Foyer Sainte-Anne\, à Montferrand-le-Château (25) ET en visioconférence
CONTACT:Service diocésain de la Pastorale Liturgique et Sacramentelle (PLS)\, 03 81 25 28 30\, responsable.pls@diocese-besancon.fr
URL:https://www.diocese-besancon.fr/prier-celebrer/pastorale-liturgique-et-sacramentelle/actualites/conference-tout-public-la-messe-quoi-de-neuf-29-septembre-2021
CLASS:PUBLIC
END:VEVENT
END:VCALENDAR
