BEGIN:VCALENDAR
PRODID:-//AT Content Types//AT Event//EN
VERSION:2.0
METHOD:PUBLISH
BEGIN:VEVENT
DTSTAMP:20260422T073946Z
CREATED:20210919T134251Z
UID:ATEvent-e244a987dd8443c18e8c4d8671262dc1
LAST-MODIFIED:20220128T181300Z
SUMMARY:Conférence : "L’Abbé Pierre\, L’amour… la colère"
DTSTART:20211004T163000Z
DTEND:20211004T163000Z
LOCATION:Salle Morand ou salle Jean Renoir\, à Pontarlier
CONTACT:Joël GUIRAUD\, 06 75 84 78 14\, guiraudjoe25@gmail.com
URL:https://www.admdp.com
CLASS:PUBLIC
END:VEVENT
END:VCALENDAR
