BEGIN:VCALENDAR
PRODID:-//AT Content Types//AT Event//EN
VERSION:2.0
METHOD:PUBLISH
BEGIN:VEVENT
DTSTAMP:20260422T035530Z
CREATED:20210709T192329Z
UID:ATEvent-6bc79fa8e73b42aeb98bb0b0b7487cf2
LAST-MODIFIED:20220128T191515Z
SUMMARY:Conférence : la révélation et les paraboles
DTSTART:20210723T183000Z
DTEND:20210723T183000Z
LOCATION:Église de Lods
URL:https://www.diocese-besancon.fr/minformer/actualites-reportages/conference-de-jean-luc-marion/
CLASS:PUBLIC
END:VEVENT
END:VCALENDAR
