BEGIN:VCALENDAR
PRODID:-//AT Content Types//AT Event//EN
VERSION:1.0
BEGIN:VEVENT
DTSTART:20211004T090000Z
DTEND:20211004T090000Z
DCREATED:20210924T152147Z
UID:ATEvent-ede6c20f01804bf3b012ca3dd6120aa0
SEQUENCE:0
LAST-MODIFIED:20220128T181300Z
SUMMARY:ConfÃ©rence de Michel de Virville Ã  BesanÃ§on
DESCRIPTION:PrÃ©sentation du dispositif Â« Territoire zÃ©ro chÃ´meur Â
 » Ã  lâ€™invitation de lâ€™association des anciens Ã©lÃ¨ves de la MaÃ®
 trise.
LOCATION:Escale Jeunes - BesanÃ§on
PRIORITY:3
TRANSP:0
END:VEVENT
END:VCALENDAR
