BEGIN:VCALENDAR
PRODID:-//AT Content Types//AT Event//EN
VERSION:2.0
METHOD:PUBLISH
BEGIN:VEVENT
DTSTAMP:20260422T115749Z
CREATED:20210219T111249Z
UID:ATEvent-4ec196ddae8b4436bed45cb7cc7b7941
LAST-MODIFIED:20220128T191513Z
SUMMARY:ConfÃ©rence de CarÃªme : La BeautÃ© de la CrÃ©ation remise entre les mains de lâ€™homme (visio)
DTSTART:20210316T193000Z
DTEND:20210316T225500Z
DESCRIPTION:Narthex propose une visio-confÃ©rence pour entrer pleineme
 nt dans l'esprit du CarÃªme.\nLa CrÃ©ation n'a-t-elle pas Ã©tÃ© confiÃ
 ©e Ã  l'Homme pour qu'il soit gardien et responsable des dons de Dieu 
 ? Cette visioconfÃ©rence sera Ã©galement lâ€™occasion de dÃ©couvrir et
  dâ€™approfondir de magnifiques Å“uvres dâ€™art.
LOCATION:En ligne
CONTACT:secretariat.ndaa@gmail.com
URL:https://www.narthex.fr/events/conference-de-careme-la-beaute-de-la-creation-remise-entre-les-mains-de-l2019homme-visio
CLASS:PUBLIC
END:VEVENT
END:VCALENDAR
