BEGIN:VCALENDAR
PRODID:-//AT Content Types//AT Event//EN
VERSION:2.0
METHOD:PUBLISH
BEGIN:VEVENT
DTSTAMP:20260421T185703Z
CREATED:20210213T174020Z
UID:ATEvent-1e9a2b7073a548c89d90231084a88675
LAST-MODIFIED:20220128T191512Z
SUMMARY:Conférence de Carême (1/3)
DTSTART:20210312T133000Z
DTEND:20210312T133000Z
LOCATION:Eglise de Malbuisson
CONTACT:Paroisse de Mouthe - Lac - Mont d'Or\, 03 81 69 22 20\, paroisse-mouthelacmontdor@diocese-besancon.fr
URL:https://www.diocese-besancon.fr/diocese/doyennes-et-paroisses/d05-haut-doubs-forestier/actualites/conferences-de-careme-202103
CLASS:PUBLIC
END:VEVENT
END:VCALENDAR
