BEGIN:VCALENDAR
PRODID:-//AT Content Types//AT Event//EN
VERSION:1.0
BEGIN:VEVENT
DTSTART:20210729T183000Z
DTEND:20210729T183000Z
DCREATED:20210620T164314Z
UID:ATEvent-a0d0c495b24f4efc9b2632bb28a3a7ce
SEQUENCE:0
LAST-MODIFIED:20220128T191515Z
SUMMARY:Concert trompette et orgue
LOCATION:Eglise Saint Bénigne à Pontarlier
PRIORITY:3
TRANSP:0
END:VEVENT
END:VCALENDAR
