BEGIN:VCALENDAR
PRODID:-//AT Content Types//AT Event//EN
VERSION:2.0
METHOD:PUBLISH
BEGIN:VEVENT
DTSTAMP:20260422T053542Z
CREATED:20210712T171850Z
UID:ATEvent-71199b7dfa284e7b8a43a04bbc466d64
LAST-MODIFIED:20220128T191515Z
SUMMARY:Concert d'orgue à Levier
DTSTART:20210725T150000Z
DTEND:20210725T150000Z
LOCATION:Eglise de Levier
CLASS:PUBLIC
END:VEVENT
END:VCALENDAR
