BEGIN:VCALENDAR
PRODID:-//AT Content Types//AT Event//EN
VERSION:1.0
BEGIN:VEVENT
DTSTART:20210722T183000Z
DTEND:20210722T183000Z
DCREATED:20210620T162720Z
UID:ATEvent-bc74ec7c437b4ef29c798acb45b382f7
SEQUENCE:0
LAST-MODIFIED:20220128T191515Z
SUMMARY:Concert de chants polyphoniques corses
LOCATION:Eglise Saint Bénigne à Pontarlier
PRIORITY:3
TRANSP:0
END:VEVENT
END:VCALENDAR
