BEGIN:VCALENDAR
PRODID:-//AT Content Types//AT Event//EN
VERSION:2.0
METHOD:PUBLISH
BEGIN:VEVENT
DTSTAMP:20260422T055427Z
CREATED:20210115T175337Z
UID:ATEvent-aeb87d9357e44665a97da50ee3d494de
LAST-MODIFIED:20220128T191516Z
SUMMARY:Colloque « Responsabilités chrétiennes dans la crise écologique »
DTSTART:20210222T130000Z
DTEND:20210224T160000Z
LOCATION:Foyer Ste Anne à Montferrand-le-Château (25)
CONTACT:Colette JEANNIN\, 06 88 71 49 96
URL:https://www.diocese-besancon.fr/diocese/doyennes-et-paroisses/d05-haut-doubs-forestier/actualites/colloque-responsabilites-chretiennes-dans-la-crise-ecologique
CLASS:PUBLIC
END:VEVENT
END:VCALENDAR
