BEGIN:VCALENDAR
PRODID:-//AT Content Types//AT Event//EN
VERSION:2.0
METHOD:PUBLISH
BEGIN:VEVENT
DTSTAMP:20260422T035842Z
CREATED:20210205T181330Z
UID:ATEvent-c164e8d1b0a44341937dfd5bc1eb18d7
LAST-MODIFIED:20220128T191512Z
SUMMARY:Chemins spirituels : « François et le Sultan : Dieu est courtoisie »
DTSTART:20211104T230000Z
DTEND:20211106T230000Z
LOCATION:Monastère Sainte-Claire de Ronchamp
CONTACT:P. Axel Isabey\, responsable\, et Françoise d’Arbaumont\, adjointe\, 06 60 13 91 98\, servicefoietart@gmail.com
CLASS:PUBLIC
END:VEVENT
END:VCALENDAR
