BEGIN:VCALENDAR
PRODID:-//AT Content Types//AT Event//EN
VERSION:1.0
BEGIN:VEVENT
DTSTART:20210709T220000Z
DTEND:20210713T220000Z
DCREATED:20210205T182134Z
UID:ATEvent-66a4d83dc1da45be8cddcf4012a1e244
SEQUENCE:0
LAST-MODIFIED:20220128T191512Z
SUMMARY:Chemins spirituels : « Églises du Sacré-Cœur et de l’Immaculée-Conception d’Audincourt »
LOCATION:Maison d'accueil Sainte-Jeanne-Antide à Sancey-le-Long
PRIORITY:3
TRANSP:0
END:VEVENT
END:VCALENDAR
