BEGIN:VCALENDAR
PRODID:-//AT Content Types//AT Event//EN
VERSION:1.0
BEGIN:VEVENT
DTSTART:20210624T220000Z
DTEND:20210626T220000Z
DCREATED:20210205T180800Z
UID:ATEvent-6d10ec1fd93d4342a1a382c3ae8664a7
SEQUENCE:0
LAST-MODIFIED:20220128T191512Z
SUMMARY:Chemins spirituels : «François et Claire d’Assise\, selon Giotto»
LOCATION:Monastère Sainte-Claire de Ronchamp
PRIORITY:3
TRANSP:0
END:VEVENT
END:VCALENDAR
