BEGIN:VCALENDAR
PRODID:-//AT Content Types//AT Event//EN
VERSION:2.0
METHOD:PUBLISH
BEGIN:VEVENT
DTSTAMP:20260422T094559Z
CREATED:20210205T180659Z
UID:ATEvent-22ac6dc3f6974095b0ad88e8970dd5d1
LAST-MODIFIED:20220128T191512Z
SUMMARY:Chemins spirituels : «Pèlerinage dans la ville de Besançon»
DTSTART:20210511T220000Z
DTEND:20210515T220000Z
LOCATION:Foyer Sainte-Anne à Montferrand-le-Chateau
CONTACT:P. Axel Isabey\, responsable\, et Françoise d’Arbaumont\, adjointe\, 06 60 13 91 98\, servicefoietart@gmail.com
CLASS:PUBLIC
END:VEVENT
END:VCALENDAR
