BEGIN:VCALENDAR
PRODID:-//AT Content Types//AT Event//EN
VERSION:2.0
METHOD:PUBLISH
BEGIN:VEVENT
DTSTAMP:20260422T093648Z
CREATED:20210521T172047Z
UID:ATEvent-0365556356614b6fa0802dba45035bed
LAST-MODIFIED:20220128T191514Z
SUMMARY:Chant et espace : la voix dans différentes traditions religieuses
DTSTART:20210606T120000Z
DTEND:20210606T150000Z
LOCATION:Chapelle Notre-Dame du Haut 70250 RONCHAMP
CONTACT:Christine MUSARD (AONDH)\, 06 72 02 51 46
CLASS:PUBLIC
END:VEVENT
END:VCALENDAR
