BEGIN:VCALENDAR
PRODID:-//AT Content Types//AT Event//EN
VERSION:2.0
METHOD:PUBLISH
BEGIN:VEVENT
DTSTAMP:20260422T060747Z
CREATED:20210430T174228Z
UID:ATEvent-c9ada8c207b14376b5efb2a759c7e98d
LAST-MODIFIED:20220128T191514Z
SUMMARY:Célébration œcuménique pour l'Unité des Chrétiens à Besançon
DTSTART:20210508T130000Z
DTEND:20210508T140000Z
LOCATION:Église évangélique CEPEE - 2 bis rue Blaise Pascal\, Planoise - Besançon
CLASS:PUBLIC
END:VEVENT
END:VCALENDAR
