BEGIN:VCALENDAR
PRODID:-//AT Content Types//AT Event//EN
VERSION:1.0
BEGIN:VEVENT
DTSTART:20210714T220000Z
DTEND:20210717T220000Z
DCREATED:20210529T151626Z
UID:ATEvent-9518a238246147c2b3c2f6e5e1ccca2e
SEQUENCE:0
LAST-MODIFIED:20220128T191514Z
SUMMARY:Cam'prière
LOCATION:Abbaye d'Acey
PRIORITY:3
TRANSP:0
END:VEVENT
END:VCALENDAR
