BEGIN:VCALENDAR
PRODID:-//AT Content Types//AT Event//EN
VERSION:2.0
METHOD:PUBLISH
BEGIN:VEVENT
DTSTAMP:20260422T035204Z
CREATED:20210612T183504Z
UID:ATEvent-bc1417f987454e52ac33608ad318e34b
LAST-MODIFIED:20220128T191515Z
SUMMARY:Camp d'été aux Fontenelles pour les 13-17 ans
DTSTART:20210706T220000Z
DTEND:20210717T220000Z
LOCATION:Les Fontenelles (25)
CONTACT:Service diocésain pour l’Évangélisation des Jeunes et des Vocations\, 03 81 81 10 18
URL:https://www.diocese-besancon.fr/diocese/doyennes-et-paroisses/d05-haut-doubs-forestier/actualites/camp-dete-aux-fontenelles-pour-les-13-17-ans
CLASS:PUBLIC
END:VEVENT
END:VCALENDAR
