BEGIN:VCALENDAR
PRODID:-//AT Content Types//AT Event//EN
VERSION:2.0
METHOD:PUBLISH
BEGIN:VEVENT
DTSTAMP:20260422T151713Z
CREATED:20210612T180152Z
UID:ATEvent-caee9083294a42259f9f3ef6a6e42920
LAST-MODIFIED:20220128T191515Z
SUMMARY:Brocante et vente de livres au Centre diocésain
DTSTART:20210702T113000Z
DTEND:20210703T150000Z
LOCATION:Centre diocésain - 20 rue Mégevand - Besançon
CONTACT:Centre diocésain \, 03 81 25 17 17
CLASS:PUBLIC
END:VEVENT
END:VCALENDAR
