BEGIN:VCALENDAR
PRODID:-//AT Content Types//AT Event//EN
VERSION:1.0
BEGIN:VEVENT
DTSTART:20210926T073000Z
DTEND:20210926T073000Z
DCREATED:20210924T150954Z
UID:ATEvent-c682bae13e1046e5a63ff860641c771e
SEQUENCE:0
LAST-MODIFIED:20220128T181300Z
SUMMARY:Bénédiction et concert d'orgue à Maîche
LOCATION:Eglise de Maîche
PRIORITY:3
TRANSP:0
END:VEVENT
END:VCALENDAR
