BEGIN:VCALENDAR
PRODID:-//AT Content Types//AT Event//EN
VERSION:1.0
BEGIN:VEVENT
DTSTART:20210708T220000Z
DTEND:20210710T220000Z
DCREATED:20210515T133439Z
UID:ATEvent-b2ecd42e3c624b9d935dc2ae55798a4a
SEQUENCE:0
LAST-MODIFIED:20220128T191514Z
SUMMARY:ThéoFIL : 4ème édition de l'Université d'été
LOCATION:Foyer Sainte-Anne à Montferrand-le-Chateau
PRIORITY:3
TRANSP:0
END:VEVENT
END:VCALENDAR
