BEGIN:VCALENDAR
PRODID:-//AT Content Types//AT Event//EN
VERSION:2.0
METHOD:PUBLISH
BEGIN:VEVENT
DTSTAMP:20260422T125939Z
CREATED:20210718T205001Z
UID:ATEvent-31c9fa53ffb947d1b69bd43aea74f606
LAST-MODIFIED:20220128T191516Z
SUMMARY:Randonnée prières & rencontres - 2
DTSTART:20210811T070000Z
DTEND:20210811T140000Z
LOCATION:Entre-les-Fourgs
URL:https://www.diocese-besancon.fr/diocese/doyennes-et-paroisses/d05-haut-doubs-forestier/nos-paroisses/mouthe-lac-mont-d-or/
CLASS:PUBLIC
END:VEVENT
END:VCALENDAR
