BEGIN:VCALENDAR
PRODID:-//AT Content Types//AT Event//EN
VERSION:2.0
METHOD:PUBLISH
BEGIN:VEVENT
DTSTAMP:20260422T093002Z
CREATED:20210718T204938Z
UID:ATEvent-b9cdeabe1a8840dcb69bf79ea674aee5
LAST-MODIFIED:20220128T191515Z
SUMMARY:Randonnée prières & rencontres - 1
DTSTART:20210720T070000Z
DTEND:20210720T140000Z
LOCATION:Entre-les-Fourgs
URL:https://www.diocese-besancon.fr/diocese/doyennes-et-paroisses/d05-haut-doubs-forestier/nos-paroisses/mouthe-lac-mont-d-or/
CLASS:PUBLIC
END:VEVENT
END:VCALENDAR
