BEGIN:VCALENDAR
PRODID:-//AT Content Types//AT Event//EN
VERSION:2.0
METHOD:PUBLISH
BEGIN:VEVENT
DTSTAMP:20260421T204839Z
CREATED:20210124T112043Z
UID:ATEvent-217bf90c70e349018e506b24806c8c00
LAST-MODIFIED:20220128T191517Z
SUMMARY:Approfondissement Biblique : St Paul Apôtre des nations (J2)
DTSTART:20210410T073000Z
DTEND:20210410T073000Z
LOCATION:Foyer Ste Anne à Montferrand-le-Château
CONTACT:Service diocésain de Formation\, 03 81 25 28 27 (laisser un message sur le répondeur en cas d'absence)\, formation.besancon@icloud.com
CLASS:PUBLIC
END:VEVENT
END:VCALENDAR
