BEGIN:VCALENDAR
PRODID:-//AT Content Types//AT Event//EN
VERSION:2.0
METHOD:PUBLISH
BEGIN:VEVENT
DTSTAMP:20260422T094054Z
CREATED:20210311T165216Z
UID:ATEvent-a720bfc24f434cd39797c24170f2fc8f
LAST-MODIFIED:20220128T191513Z
SUMMARY:ThéoFIL Bible 1 en visio
DTSTART:20210406T180000Z
DTEND:20210406T180000Z
LOCATION:En visio
CONTACT:Service diocésain de Formation\, 06 87 71 69 92\, formation.besancon@icloud.com
URL:https://www.diocese-besancon.fr/diocese/doyennes-et-paroisses/d05-haut-doubs-forestier/actualites/theofil-bible-1-en-visio
CLASS:PUBLIC
END:VEVENT
END:VCALENDAR
