BEGIN:VCALENDAR
PRODID:-//AT Content Types//AT Event//EN
VERSION:2.0
METHOD:PUBLISH
BEGIN:VEVENT
DTSTAMP:20260422T162459Z
CREATED:20210220T132219Z
UID:ATEvent-6c38a0cd969a4d2a8c1f37c2a29a8945
LAST-MODIFIED:20220128T191513Z
SUMMARY:Réunion des curés et DP du doyenné
DTSTART:20210225T130000Z
DTEND:20210225T130000Z
LOCATION:Pontarlier
CLASS:PUBLIC
END:VEVENT
END:VCALENDAR
