BEGIN:VCALENDAR
PRODID:-//AT Content Types//AT Event//EN
VERSION:2.0
METHOD:PUBLISH
BEGIN:VEVENT
DTSTAMP:20260422T150555Z
CREATED:20210424T085552Z
UID:ATEvent-8270db5273c34150959ec16c4f9da055
LAST-MODIFIED:20220128T191514Z
SUMMARY:Une journée au Mont Sainte Odile
DTSTART:20211014T220000Z
DTEND:20211014T220000Z
LOCATION:Mont Sainte Odile
CONTACT:Service diocésain des Pèlerinages\, 03 81 25 28 22\, direction-pelerinages@centrediocesain-besancon.fr
URL:https://www.diocese-besancon.fr/agir-participer/tu-veux-t-epanouir-te-former/service-interdiocesain-pelerinages/menu1/pelerinages-dune-journee/mont-sainte-odile-15-octobe-2021
CLASS:PUBLIC
END:VEVENT
END:VCALENDAR
