BEGIN:VCALENDAR
PRODID:-//AT Content Types//AT Event//EN
VERSION:2.0
METHOD:PUBLISH
BEGIN:VEVENT
DTSTAMP:20260422T181128Z
CREATED:20210424T083949Z
UID:ATEvent-1d3b1442eafb40e5b2100b31a12c33a3
LAST-MODIFIED:20220128T191514Z
SUMMARY:Une journée à Taizé & Tournus
DTSTART:20210925T220000Z
DTEND:20210925T220000Z
LOCATION:Taizé & Tournus
CONTACT:Service diocésain des Pèlerinages\, 03 81 25 28 22\, direction-pelerinages@centrediocesain-besancon.fr
URL:https://www.diocese-besancon.fr/agir-participer/tu-veux-t-epanouir-te-former/service-interdiocesain-pelerinages/menu1/pelerinages-dune-journee/taize-tournus-1
CLASS:PUBLIC
END:VEVENT
END:VCALENDAR
