BEGIN:VCALENDAR
PRODID:-//AT Content Types//AT Event//EN
VERSION:2.0
METHOD:PUBLISH
BEGIN:VEVENT
DTSTAMP:20260422T130445Z
CREATED:20200906T135135Z
UID:ATEvent-598e3a649b304211ac76b2bd3379e36c
LAST-MODIFIED:20211018T200502Z
SUMMARY:ThéoFIL Bible 3 à Pontarlier
DTSTART:20200930T180000Z
DTEND:20200930T200000Z
LOCATION:Salle St Bénigne à Pontarlier
CONTACT:Béatrice PRETRE\, 06 31 36 71 33\, pretre.jean-claude@orange.fr
URL:https://www.diocese-besancon.fr/diocese/doyennes-et-paroisses/d05-haut-doubs-forestier/annoncer/adultes/theofil-2020-2021-dans-notre-doyenne
CLASS:PUBLIC
END:VEVENT
END:VCALENDAR
