BEGIN:VCALENDAR
PRODID:-//AT Content Types//AT Event//EN
VERSION:1.0
BEGIN:VEVENT
DTSTART:20201214T193000Z
DTEND:20201214T201500Z
DCREATED:20201212T222350Z
UID:ATEvent-b0404b6b0db54d728af423f46ab17426
SEQUENCE:0
LAST-MODIFIED:20210703T083927Z
SUMMARY:Rencontre vidéo en direct avec Nathalie Nabert\, auteur de "Femmes dans la Bible"
LOCATION:en direct vidéo
PRIORITY:3
TRANSP:0
END:VEVENT
END:VCALENDAR
