BEGIN:VCALENDAR
PRODID:-//AT Content Types//AT Event//EN
VERSION:2.0
METHOD:PUBLISH
BEGIN:VEVENT
DTSTAMP:20260423T105727Z
CREATED:20240315T134123Z
UID:ATEvent-bcb369d7a53d4588ae79425a50ce36c9
LAST-MODIFIED:20240319T184350Z
SUMMARY:♦ Solennité de Saint Joseph
DTSTART:20240318T230000Z
DTEND:20240318T230000Z
LOCATION:Dans le doyenné
CONTACT:messes.info
URL:https://messes.info/communaute/be/25/haut-doubs-forestier
CLASS:PUBLIC
END:VEVENT
END:VCALENDAR
