BEGIN:VCALENDAR
PRODID:-//AT Content Types//AT Event//EN
VERSION:1.0
BEGIN:VEVENT
DTSTART:20240313T173000Z
DTEND:20240313T173000Z
DCREATED:20230830T092450Z
UID:ATEvent-e06d59c99a32427c8d8cb2eb854adbdc
SEQUENCE:0
LAST-MODIFIED:20240221T192822Z
SUMMARY:Foi et Art : Méditer la Bible au regard de l'art
DESCRIPTION:Carême à la lueur des des œuvres du musée des Beaux Ar
 ts de Besançon
LOCATION:Auditorium du Centre diocésain\, 20 rue Mégevand à Besancon
PRIORITY:3
TRANSP:0
END:VEVENT
END:VCALENDAR
