BEGIN:VCALENDAR
PRODID:-//AT Content Types//AT Event//EN
VERSION:2.0
METHOD:PUBLISH
BEGIN:VEVENT
DTSTAMP:20260422T040314Z
CREATED:20240127T104914Z
UID:ATEvent-3d9bca29118c47efb035700f0dc6f99f
LAST-MODIFIED:20240130T112514Z
SUMMARY:♦ Retraite dans la vie : 7 jours à l'écoute de la Parole de Dieu
DTSTART:20240224T230000Z
DTEND:20240301T230000Z
DESCRIPTION:Du 25 février au 2 mars 2024
LOCATION:Salles de l'église saint Pierre à Pontarlier
CONTACT:P. Pascal Perroux-Hummel\, 09 75 38 82 36\, paroisse-paysdepontarlier@diocese-besancon.fr
CLASS:PUBLIC
END:VEVENT
END:VCALENDAR
