BEGIN:VCALENDAR
PRODID:-//AT Content Types//AT Event//EN
VERSION:1.0
BEGIN:VEVENT
DTSTART:20240111T130000Z
DTEND:20240111T130000Z
DCREATED:20240105T185832Z
UID:ATEvent-36d13ce6d85c47bca93119ec0d8e760d
SEQUENCE:0
LAST-MODIFIED:20240105T190339Z
SUMMARY:♦ Réunion de doyenné
DESCRIPTION:Concerne les curés\, vicaires & DP
LOCATION:Salle de l'église St-Pierre à Pontarlier
PRIORITY:3
TRANSP:0
END:VEVENT
END:VCALENDAR
