BEGIN:VCALENDAR
PRODID:-//AT Content Types//AT Event//EN
VERSION:2.0
METHOD:PUBLISH
BEGIN:VEVENT
DTSTAMP:20260421T085922Z
CREATED:20191023T151746Z
UID:ATEvent-c2f9d16574124a979bf04fc1c8de21f0
LAST-MODIFIED:20191023T151758Z
SUMMARY:Ordination diaconale
DTSTART:20191110T130000Z
DTEND:20191110T160000Z
LOCATION:Cathédrale St Jean
CLASS:PUBLIC
END:VEVENT
END:VCALENDAR
