BEGIN:VCALENDAR
PRODID:-//AT Content Types//AT Event//EN
VERSION:1.0
BEGIN:VEVENT
DTSTART:20260521T180000Z
DTEND:20260521T180000Z
DCREATED:20251118T105153Z
UID:ATEvent-a6e5efc2232b487caef4abbdb0bbe8c4
SEQUENCE:0
LAST-MODIFIED:20251118T105241Z
SUMMARY:Soirée "Cœur Battant"
DESCRIPTION:LOUANGE - ADORATION - FORMATION - MISSION DANS LES RUES - 
 SUIVI D’UN MOMENT CONVIVIAL
LOCATION:Eglise St Pierre
PRIORITY:3
TRANSP:0
END:VEVENT
END:VCALENDAR
