BEGIN:VCALENDAR
PRODID:-//AT Content Types//AT Event//EN
VERSION:1.0
BEGIN:VEVENT
DTSTART:20260509T083000Z
DTEND:20260510T133000Z
DCREATED:20260421T120810Z
UID:ATEvent-21eba672d8fd4ef38b55772950804255
SEQUENCE:0
LAST-MODIFIED:20260421T120956Z
SUMMARY:rallye de district des Guides et Scouts d'Europe de Franche-Comté
DESCRIPTION:L’association des Guides et Scouts d’Europe du distric
 t de Franche-Comté organise un grand rassemblement durant le week-end
  des 9 et 10 mai sur le secteur de Belvoir.
PRIORITY:3
TRANSP:0
END:VEVENT
END:VCALENDAR
