BEGIN:VCALENDAR
PRODID:-//AT Content Types//AT Event//EN
VERSION:2.0
METHOD:PUBLISH
BEGIN:VEVENT
DTSTAMP:20260423T091449Z
CREATED:20260421T103847Z
UID:ATEvent-2cd7a47d0d8d46cb9cf6bbf9efb3e0b4
LAST-MODIFIED:20260421T103934Z
SUMMARY:Parcours " Entendre Dieu ... et parler avec lui " - 1 Dieu m’aime et désire me parler.
DTSTART:20260529T120000Z
DTEND:20260529T133000Z
DESCRIPTION:5 rencontres ( le vendredi de 14 h à 15 h 30 )
LOCATION:Chez les Sœurs de la Charité\, 2 rue des Martelots\, à Besançon
CLASS:PUBLIC
END:VEVENT
END:VCALENDAR
