BEGIN:VCALENDAR
PRODID:-//AT Content Types//AT Event//EN
VERSION:2.0
METHOD:PUBLISH
BEGIN:VEVENT
DTSTAMP:20260421T164733Z
CREATED:20260421T105730Z
UID:ATEvent-fbde23dfbd9649838b4cd1ec5dbd9b13
LAST-MODIFIED:20260421T105926Z
SUMMARY:L’homosexualité\, si on en parlait ?
DTSTART:20260505T120000Z
DTEND:20260505T203000Z
DESCRIPTION:Ces rencontres se présenteront sous forme de temps d’é
 coute et de partage\, à deux horaires différents : soit de 14 h à 1
 7 h soit de 20 h à 22 h 30 à la maison de la pastorale des familles
LOCATION:Maison de la pastorale des familles\, 2 rue des Martelots\, à Besançon
CLASS:PUBLIC
END:VEVENT
END:VCALENDAR
