BEGIN:VCALENDAR
PRODID:-//AT Content Types//AT Event//EN
VERSION:2.0
METHOD:PUBLISH
BEGIN:VEVENT
DTSTAMP:20260422T100520Z
CREATED:20260224T130518Z
UID:ATEvent-5a2df61d48414a58b7fbfa2c0a0526e5
LAST-MODIFIED:20260224T130542Z
SUMMARY:Conférence : « Nostra aetate : les enjeux des relations entre l’Église et le peuple d’Israël » à Besançon
DTSTART:20260414T180000Z
DTEND:20260414T180000Z
DESCRIPTION:Conférence du père Alexandre COMTE\, délégué national
  pour les relations avec le judaïsme.
LOCATION:Centre diocésain - Salle A - 20 rue Mégevand - Besançon
CLASS:PUBLIC
END:VEVENT
END:VCALENDAR
